Workbook

Sheet Sheet1
A1: 附件1
A2: 巴中市口腔种植类医疗服务项目价格及医保支付类别表
A3: 使用说明： 1.所定价格属于政府指导价为最高限价，下浮不限。同时，医疗机构申报的技术改良进步项目，可采取“现有项目兼容”方式简化处理，无需申报新增医疗服务价格项目。 2.“价格构成”指项目价格应涵盖的各类资源消耗，医疗机构实际提供服务时，“价格构成”的个别要素因患者个体差异可以不发生的，除另有政策规定外，应允许医疗机构收费适用相应的项目和价格政策。此外，“价格构成”用于确定计价单元的边界，不应作为临床技术标准理解，不是医疗服务实际操作方式、路径、步骤、程序的强制性要求。
A4: 3.“加收项”指同一项目以不同方式提供或在不同场景应用时，确有必要制定差异化收费标准而细分的一类子项，包括在原项目价格基础上增加或减少收费的情况，具体的加/减收标准（加/减收率或加/减收金额）由省、市级医疗保障部门依权限制定；实际应用中，同时涉及多个加收项的，以项目单价为基础计算相应的加/减收水平后，据实收费。 4.“扩展项”指同一项目下以不同方式提供或在不同场景应用时，只扩展价格项目适用范围、不额外加价的一类子项，子项的价格按主项目执行。 5.“基本物耗”指原则上限于不应或不必要与医疗服务项目分割的易耗品，包括但不限于各类消杀用品、储存用品、清洁用品、个人防护用品、垃圾处理用品、试戴材料、铸造包埋材、义齿清洁材料、牙科分离剂、模型材料、蜡型材料、车针、排龈材料、菌斑指示剂、义齿稳固剂、印模材料、咬合记录材料、咬合检查材料、研磨抛光材料、冲洗液、润滑剂、灌洗液、棉球、棉签、纱布（垫）、护垫、衬垫、手术巾（单）、治疗巾（单）、治疗护理盘（包）、注射器、压舌板、滑石粉、防渗漏垫、标签、操作器具、冲洗工具。基本物耗成本计入项目价格，不另行收费。
A5: 6.植入体为种植体、基台等植入牙床、包裹在牙龈内的医用耗材，置入体是指种植牙冠、义齿等安置在口腔内、暴露在牙龈之外，不与人体组织直接结合的医用耗材。 7.即刻种植指拔牙或牙齿缺失当日完成种植体植入的情况；即刻修复指种植体植入后1周以内完成牙冠置入的情形。 8.口腔内简单植骨指通过骨替代材料引导骨再生或填充牙槽嵴骨量；口腔内复杂植骨包括上颌窦外提升植骨、牙槽嵴块状自体骨移植；口腔内一般植骨指简单植骨与复杂植骨以外各类形式的植骨技术。 9.医疗机构应对本院施治的口腔内牙齿缺失植入体、置入体进行保质保修，保修范围内出现损坏，医疗机构应免费进行修理、再制作，不得向患者收取费用。 10.口腔医学3D项目是指为口腔种植手术方案设计、导航定位等提供辅助的服务。医疗机构自行制作牙冠所进行的3D扫描设计、打印切削，以及翻模精修、烧结上釉、上色调改等具体操作，作为成本要素计入种植牙牙冠价格，不再将上述牙冠加工制作的具体操作步骤作为医疗服务价格项目向患者收费。
A6: 11.在诊疗项目服务中，除另有规定的，不足一个计价单位的按一个计价单位计算。 12.除另有规定的，诊疗项目中的活检均不含病理诊断的服务内容。 13.同台不同疾病手术、同一切口不同疾病手术，按各项手术价格分别计费；同一疾病双侧器官同时实行的手术，在按相应单侧手术收费基础加收70%。同台同一疾病手术，按规定实施多项手术的，主手术收取全额费用，次手术按对应手术费用的60%收取。 14.传染病患者实施手术加收100元特殊消毒费，特异性感染疾病（破伤风、绿脓杆菌、气性坏疽、艾滋病等）患者手术加收800元特殊消毒及处置费。 15.属探查性质的手术，术中改做其他手术时，只收其他手术费，不再收探查手术费；术中发现病情恶化，手术无法进行时，按探查手术费标准收费，不再收取其他手术费。
A7: 序号 | B7: 项目编码 | C7: 项目名称 | D7: 服务产出 | E7: 价格构成 | F7: 加收项 | G7: 扩展项 | H7: 计价单位 | I7: 计价说明 | J7: 巴中公立医疗机构价格（元） | O7: 医保支付类别
J9: 三甲 | K9: 三乙 | L9: 二甲 | M9: 二乙 | N9: 二乙以下
A10: 1 | B10: 013105170020000 | C10: 种植牙冠修复置入费 （连续冠桥修复） | D10: 实现种植体上部不超过一个象限的连续固定义齿的修复置入。 | E10: 涵盖方案设计、印模制取、颌位确定、位置转移、模型制作、试排牙、戴入、调改、宣教等人力资源和基本物资消耗 | F10: 01即刻修复置入； 02临时冠修复置入减收 | H10: 牙位 | J10: =VLOOKUP(B10,Sheet2!L:N,3,0) -> 1098 | K10: =VLOOKUP(B10,Sheet2!L:O,4,0) -> 1006 | L10: =VLOOKUP(B10,Sheet2!L:P,5,0) -> 915 | M10: =VLOOKUP(B10,Sheet2!L:Q,6,0) -> 824 | N10: =VLOOKUP(B10,Sheet2!L:R,7,0) -> 732 | O10: 丙类
B11: 013105170020001 | C11: 种植牙冠修复置入费 （连续冠桥修复）-即刻修复置入（加收） | D11: 实现种植体上部不超过一个象限的连续固定义齿的即刻修复置入。 | H11: 牙位 | J11: 0.3 | K11: 0.3 | L11: 0.3 | M11: 0.3 | N11: 0.3 | O11: 丙类
B12: 013105170020002 | C12: 种植牙冠修复置入费 （连续冠桥修复）-临时冠修复置入（减收） | D12: 实现种植体上部不超过一个象限的连续固定义齿的临时冠修复置入。 | H12: 牙位 | J12: 0.3 | K12: 0.3 | L12: 0.3 | M12: 0.3 | N12: 0.3 | O12: 丙类
A13: 2 | B13: 013306090030000 | C13: 口腔内植骨费（简单） | D13: 通过手术方式，对轻度牙槽嵴萎缩骨量增加，达到可种植条件。 | E13: 涵盖方案设计、术前准备、手术入路，组织切开，植骨，关闭缝合受植区等手术步骤及术后复查处置等人力资源和基本物资消耗。 | H13: 牙位 | I13: 与种植体同时植入，上颌窦底剩余牙槽嵴高度≥5mm。 | J13: =VLOOKUP(B13,Sheet2!L:N,3,0) -> 1002 | K13: =VLOOKUP(B13,Sheet2!L:O,4,0) -> 918 | L13: =VLOOKUP(B13,Sheet2!L:P,5,0) -> 835 | M13: =VLOOKUP(B13,Sheet2!L:Q,6,0) -> 752 | N13: =VLOOKUP(B13,Sheet2!L:R,7,0) -> 668 | O13: 丙类
A14: 3 | B14: 013306090040000 | C14: 口腔内植骨费（一般） | D14: 通过手术方式，对中度牙槽嵴萎缩骨量增加，达到可种植条件。 | E14: 涵盖方案设计、术前准备、手术入路，组织切开，骨劈开/骨挤压，植骨，关闭缝合受植区等手术步骤及术后复查处置等人力资源和基本物资消耗。 | H14: 牙位 | I14: 不与种植体同时植入，局限于水平骨缺损，上颌窦底剩余牙槽嵴高度＜5mm。 | J14: =VLOOKUP(B14,Sheet2!L:N,3,0) -> 1684 | K14: =VLOOKUP(B14,Sheet2!L:O,4,0) -> 1543 | L14: =VLOOKUP(B14,Sheet2!L:P,5,0) -> 1403 | M14: =VLOOKUP(B14,Sheet2!L:Q,6,0) -> 1262 | N14: =VLOOKUP(B14,Sheet2!L:R,7,0) -> 1123 | O14: 丙类
A15: 4 | B15: 013306090050000 | C15: 口腔内植骨费（复杂） | D15: 通过手术方式，对重度牙槽嵴萎缩或上颌窦底骨量增加，达到可种植条件。 | E15: 涵盖方案设计、术前准备、手术入路，组织切开，自体骨移植、植骨，关闭缝合受植区等手术步骤及术后复查处置等人力资源和基本物资消耗。 | F15: 01上颌窦囊肿摘除； 02口腔以外其他部位取骨 | H15: 牙位 | I15: 不与种植体同时植入，需做垂直骨增量；上颌窦底剩余牙槽嵴高度＜5mm，同时伴有囊肿、纵膈或异物。 | J15: =VLOOKUP(B15,Sheet2!L:N,3,0) -> 2469 | K15: =VLOOKUP(B15,Sheet2!L:O,4,0) -> 2264 | L15: =VLOOKUP(B15,Sheet2!L:P,5,0) -> 2058 | M15: =VLOOKUP(B15,Sheet2!L:Q,6,0) -> 1852 | N15: =VLOOKUP(B15,Sheet2!L:R,7,0) -> 1647 | O15: 丙类
B16: 013306090050001 | C16: 口腔内植骨费（复杂）-上颌窦囊肿摘除（加收） | D16: 通过手术方式，上颌窦囊肿摘除，对重度牙槽嵴萎缩或上颌窦底骨量增加，达到可种植条件。 | H16: 牙位 | J16: 0.25 | K16: 0.25 | L16: 0.25 | M16: 0.25 | N16: 0.25 | O16: 丙类
B17: 013306090050002 | C17: 口腔内植骨费（复杂）-口腔以外其他部位取骨（加收） | D17: 通过手术方式，口腔以外其他部位取骨，对重度牙槽嵴萎缩或上颌窦底骨量增加，达到可种植条件。 | H17: 牙位 | J17: 0.4 | K17: 0.4 | L17: 0.4 | M17: 0.4 | N17: 0.4 | O17: 丙类
A18: 5 | B18: 013306090060000 | C18: 种植体周软组织移植费 | D18: 通过局部软组织移植，改善治疗部位及周围软组织状况，达到治疗所需软组织条件。 | E18: 涵盖方案设计、术前准备、切开、翻瓣、供软组织制备、组织固定、缝合及处置等手术步骤人力资源和基本物资消耗。 | H18: 牙位 | J18: =VLOOKUP(B18,Sheet2!L:N,3,0) -> 1493 | K18: =VLOOKUP(B18,Sheet2!L:O,4,0) -> 1368 | L18: =VLOOKUP(B18,Sheet2!L:P,5,0) -> 1244 | M18: =VLOOKUP(B18,Sheet2!L:Q,6,0) -> 1120 | N18: =VLOOKUP(B18,Sheet2!L:R,7,0) -> 995 | O18: 丙类
A19: 6 | B19: 013306090070000 | C19: 种植体取出费 | D19: 拆除患者口腔内已植入且无法继续使用的种植体。 | E19: 涵盖种植体拆除操作步骤的人力资源和基本物资消耗。 | H19: 牙位 | J19: =VLOOKUP(B19,Sheet2!L:N,3,0) -> 1026 | K19: =VLOOKUP(B19,Sheet2!L:O,4,0) -> 941 | L19: =VLOOKUP(B19,Sheet2!L:P,5,0) -> 855 | M19: =VLOOKUP(B19,Sheet2!L:Q,6,0) -> 770 | N19: =VLOOKUP(B19,Sheet2!L:R,7,0) -> 684 | O19: 丙类
A20: 7 | B20: 013105190010000 | C20: 种植牙冠修理费 | D20: 对产品保质保修条件外，种植牙冠脱落、崩瓷、嵌食、断裂等机械性或器质性损坏进行修理，恢复正常使用。 | E20: 涵盖种植修复置入体的检查、拆卸、修补、置入等人力资源和基本物资消耗。 | H20: 牙位 | J20: =VLOOKUP(B20,Sheet2!L:N,3,0) -> 828 | K20: =VLOOKUP(B20,Sheet2!L:O,4,0) -> 759 | L20: =VLOOKUP(B20,Sheet2!L:P,5,0) -> 690 | M20: =VLOOKUP(B20,Sheet2!L:Q,6,0) -> 621 | N20: =VLOOKUP(B20,Sheet2!L:R,7,0) -> 552 | O20: 丙类
A21: 8 | B21: 013105170040000 | C21: 医学3D建模（口腔） | D21: 利用医学影像检查等手段获得患者特定部位的真实信息。通过数字技术构建的虚拟3D模型、真实再现口腔及颌面特定部位的形态，能够满足疾病诊断、手术规划、治疗及导板设计的需要。 | E21: 涵盖数字化扫描、建模、存储、传输，装置设计等步骤的人力资源和基本物资消耗。 | H21: 例 | J21: 192 | K21: 192 | L21: 160 | M21: 160 | N21: 128 | O21: 丙类
A22: 9 | B22: 013105230020000 | C22: 医学3D模型打印（口腔） | D22: 将虚拟3D模型打印或切削制作成仅用于口腔疾病诊断、手术规划、治疗及导板设计的实体模型。 | E22: 涵盖3D打印或切削制作的人力资源和基本物资消耗。 | H22: 件 | I22: 常规单颗种植中使用本项目，按收费标准的7%计价。 | J22: =VLOOKUP(B22,Sheet2!L:N,3,0) -> 331 | K22: =VLOOKUP(B22,Sheet2!L:O,4,0) -> 331 | L22: =VLOOKUP(B22,Sheet2!L:P,5,0) -> 276 | M22: 276 | N22: =VLOOKUP(B22,Sheet2!L:R,7,0) -> 221 | O22: 丙类
A23: 10 | B23: 013105230030000 | C23: 医学3D导板打印（口腔） | D23: 将虚拟3D模型打印或切削制作成用于治疗部位、确保植（置）入物精准到达和处理预定位置的实物模板或手术操作对治疗部位进行精确处理。 | E23: 涵盖3D打印或切削制作的人力资源和基本物资消耗。 | H23: 件 | I23: 常规单颗种植中使用本项目，按收费标准的7%计价。 | J23: =VLOOKUP(B23,Sheet2!L:N,3,0) -> 1022 | K23: =VLOOKUP(B23,Sheet2!L:O,4,0) -> 1022 | L23: =VLOOKUP(B23,Sheet2!L:P,5,0) -> 852 | M23: =VLOOKUP(B23,Sheet2!L:Q,6,0) -> 852 | N23: =VLOOKUP(B23,Sheet2!L:R,7,0) -> 682 | O23: 丙类
A24: 11 | B24: 013306090010000 | C24: 种植体植入费（单颗） | D24: 实现口腔单颗种植体植入。 | E24: 涵盖方案设计、术前准备，备洞，种植体植入，二期手术，术后处理，手术复查等步骤人力资源和基本物资消耗。 | F24: 01种植体即刻种植； 02颅颌面种植体植入 | H24: 牙位 | J24: 1208.42 | K24: 1208 | L24: 1007.14 | M24: 1007 | N24: 1007 | O24: 丙类
B25: 013306090010001 | C25: 种植体植入费（单颗）-种植体即刻种植（加收） | D25: 实现口腔单颗种植体即刻植入。 | H25: 牙位 | J25: 0.3 | K25: 0.3 | L25: 0.3 | M25: 0.3 | N25: 0.3 | O25: 丙类
B26: 013306090010002 | C26: 种植体植入费（单颗）-颅颌面种植体植入（加收） | D26: 实现口腔单颗颅颌面种植体植入。 | H26: 牙位 | J26: 1 | K26: 1 | L26: 1 | M26: 1 | N26: 1 | O26: 丙类
A27: 12 | B27: 013105170010000 | C27: 种植牙冠修复置入费（单颗） | D27: 实现种植体上部固定义齿的修复置入。 | E27: 涵盖方案设计、印模制取、颌位确定、位置转移、模型制作、试排牙、戴入、调改、宣教等人力资源和基本物资消耗。 | F27: 01即刻修复置入； 02临时冠修复置入减收 | H27: 牙位 | J27: =VLOOKUP(B27,Sheet2!L:N,3,0) -> 906 | K27: =VLOOKUP(B27,Sheet2!L:O,4,0) -> 906 | L27: =VLOOKUP(B27,Sheet2!L:P,5,0) -> 755 | M27: =VLOOKUP(B27,Sheet2!L:Q,6,0) -> 755 | N27: =VLOOKUP(B27,Sheet2!L:R,7,0) -> 755 | O27: 丙类
B28: 013105170010001 | C28: 种植牙冠修复置入费（单颗）-即刻修复置入（加收） | D28: 实现种植体上部固定义齿的即刻修复置入。 | H28: 牙位 | J28: 0.3 | K28: 0.3 | L28: 0.3 | M28: 0.3 | N28: 0.3 | O28: 丙类
B29: 013105170010002 | C29: 种植牙冠修复置入费（单颗）-临时冠修复置入（减收） | D29: 实现种植体上部固定义齿的临时冠修复置入。 | H29: 牙位 | J29: 0.3 | K29: 0.3 | L29: 0.3 | M29: 0.3 | N29: 0.3 | O29: 丙类
A30: 13 | B30: 013306090020000 | C30: 种植体植入费 （全牙弓） | D30: 对范围超过一个象限以上的连续牙齿缺失进行种植体的植入以实现桥式修复。 | E30: 涵盖方案设计、术前准备，备洞，种植体植入，二期手术，术后处理，手术复查等步骤人力资源和基本物资消耗。 | F30: 01种植体即刻种植； 02颅颌面种植体植入； 03种植体倾斜植入 | H30: 例 | I30: 上下颌分别进行桥式修复的，分别计价收费。 | J30: 市场 调节 | K30: 市场调节 | L30: 市场调节 | M30: 市场 调节 | N30: 市场 调节 | O30: 丙类
B31: 013306090020001 | C31: 种植体植入费 （全牙弓）-种植体即刻种植（加收） | D31: 对范围超过一个象限以上的连续牙齿缺失进行即刻种植体的植入以实现桥式修复。 | H31: 例 | J31: 市场 调节 | K31: 市场调节 | L31: 市场调节 | M31: 市场 调节 | N31: 市场 调节 | O31: 丙类
B32: 013306090020002 | C32: 种植体植入费 （全牙弓）-颅颌面种植体植入（加收） | D32: 对范围超过一个象限以上的连续牙齿缺失进行颅颌面种植体的植入以实现桥式修复。 | H32: 例 | J32: 市场 调节 | K32: 市场 调节 | L32: 市场 调节 | M32: 市场 调节 | N32: 市场 调节 | O32: 丙类
B33: 013306090020003 | C33: 种植体植入费 （全牙弓）-种植体倾斜植入（加收） | D33: 对范围超过一个象限以上的连续牙齿缺失进行种植体倾斜的植入以实现桥式修复。 | H33: 例 | J33: 市场 调节 | K33: 市场 调节 | L33: 市场 调节 | M33: 市场 调节 | N33: 市场 调节 | O33: 丙类
A34: 14 | B34: 013105170030000 | C34: 种植牙冠修复置入费（固定咬合重建） | D34: 实现对咬合支持丧失、半口牙齿缺失或全口牙齿缺失的种植体上部固定义齿的修复置入。 | E34: 涵盖方案设计、印模制取、颌位确定、位置转移、模型制作、试排牙、戴入、调改、宣教等人力资源和基本物资消耗。 | F34: 01即刻修复置入 | H34: 件 | I34: “件”为半口。 | J34: 市场 调节 | K34: 市场 调节 | L34: 市场 调节 | M34: 市场 调节 | N34: 市场 调节 | O34: 丙类
B35: 013105170030001 | C35: 种植牙冠修复置入费（固定咬合重建）-即刻修复置入（加收） | D35: 实现对咬合支持丧失、半口牙齿缺失或全口牙齿缺失的种植体上部固定义齿的即刻修复置入。 | H35: 件 | J35: 市场 调节 | K35: 市场 调节 | L35: 市场 调节 | M35: 市场 调节 | N35: 市场 调节 | O35: 丙类
A36: 15 | B36: 013105230010000 | C36: 种植可摘修复置入费 | D36: 实现种植体上部可摘修复体的置入。 | E36: 涵盖方案设计、印模制取、颌位确定、位置转移、试排牙、模型制作、戴入、调改、宣教等人力资源和基本物资消耗。 | F36: 01即刻修复置入 | H36: 件 | I36: “件”为半口。 | J36: 市场 调节 | K36: 市场 调节 | L36: 市场 调节 | M36: 市场 调节 | N36: 市场 调节 | O36: 丙类
B37: 013105230010001 | C37: 种植可摘修复置入费-即刻修复置入（加收） | D37: 实现种植体上部可摘修复体的即刻修复置入。 | H37: 件 | J37: 市场 调节 | K37: 市场 调节 | L37: 市场 调节 | M37: 市场 调节 | N37: 市场 调节 | O37: 丙类

Sheet Sheet2
A1: 013105170020000 | B1: 种植牙冠修复置入费(连续冠桥修复) | C1: 310523009 | D1: 种植牙冠修复置入费(连续冠桥修复) | I1: 服务产出:实现种植体上部不超过一个象限的连续固定义齿的修复置入。价格构成:涵盖方案设计、印模制取、颌位确定、位置转移、模型制作、试排牙、戴入、调改、宣教等人力资源和基本物资消耗。 | J1: 牙冠、种植体系统 | L1: 013105170020000 | M1: 牙位 | N1: 1098 | O1: 1006 | P1: 915 | Q1: 824 | R1: 732 | S1: 01 即刻修复置入加收30%; 02临时冠修复置入减收30% | T1: 丙类 | W1: 013105170020000
A2: 013105170020001 | B2: 种植牙冠修复置入费(连续冠桥修复)-即刻修复置入(加收) | C2: 310523009-1 | D2: 种植牙冠修复置入费(连续冠桥修复)-即刻修复置入(加收) | L2: 013105170020001 | M2: 牙位 | N2: 0.3 | O2: 0.3 | P2: 0.3 | Q2: 0.3 | R2: 0.3 | T2: 丙类 | W2: 013105170020001
A3: 013105170020002 | B3: 种植牙冠修复置入费(连续冠桥修复)-临时冠修复置入(减收) | C3: 310523009-2 | D3: 种植牙冠修复置入费(连续冠桥修复)-临时冠修复置入(减收) | L3: 013105170020002 | M3: 牙位 | N3: 0.3 | O3: 0.3 | P3: 0.3 | Q3: 0.3 | R3: 0.3 | T3: 丙类 | W3: 013105170020002
A4: 01310519010000 | B4: 种植牙冠修理费 | C4: 310523012 | D4: 种植牙冠修理费 | I4: 服务产出:对产品保质保修条件外,种植牙冠脱落、崩瓷、嵌食、断裂等机械性或器质性损坏进行修理,恢复正常使用。 价格构成:涵盖种植修复置入体的检查、拆卸、修补、置入等人力资源和基本物资消耗。 | L4: 013105190010000 | M4: 牙位 | N4: 828 | O4: 759 | P4: 690 | Q4: 621 | R4: 552 | T4: 丙类 | W4: 013105190010000
A5: 01310517040000 | B5: 医学3D建模(口腔) | C5: 310510014 | D5: 医学3D建模 (口腔) | I5: 服务产出:利用医学影像检查等手段获得患者特定部位的真实信息。通过数字技术构建的虚拟3D模型、真实再现口腔及颌面特定部位的形态,能够满足疾病诊断、手术规划、治疗及导板设计的需要。 价格构成:涵盖数字化扫描、建模、存储、传输,装置设计等步骤的人力资源和基本物资消耗。 | L5: 013105170040000 | M5: 例 | N5: 192 | O5: 192 | P5: 160 | Q5: 160 | R5: 128 | T5: 丙类 | W5: 013105170040000
A6: 01310523020000 | B6: 医学3D模型打印(口腔) | C6: 310510015 | D6: 医学3D模型打印(口腔) | I6: 服务产出:将虚拟3D模型打印或切削制作成仅用于口腔疾病诊断、手术规划、治疗及导板设计的实体模型。 价格构成:涵盖3D打印或切削制作的人力资源和基本物资消耗。 | L6: 013105230020000 | M6: 件 | N6: 331 | O6: 331 | P6: 276 | Q6: 221 | R6: 221 | S6: 常规单颗种植中使用本项目,按收费标准的7%计价 | T6: 丙类 | W6: 013105230020000
A7: 01310523030000 | B7: 医学3D导板打印(口腔) | C7: 310510016 | D7: 医学3D导板打印(口腔) | I7: 服务产出:将虚拟3D模型打印或切削制作成用于治疗部位、确保植(置)入物精准到达和处理预定位置的实物模板或手术操作对治疗部位进行精确处理。 价格构成:涵盖3D打印或切削制作的人力资源和基本物资消耗。 | L7: 013105230030000 | M7: 件 | N7: 1022 | O7: 1022 | P7: 852 | Q7: 852 | R7: 682 | S7: 常规单颗种植中使用本项目,按收费标准的7%计价 | T7: 丙类 | W7: 013105230030000
A8: 01310517010000 | B8: 种植牙冠修复置入费(单颗) | C8: 310523008 | D8: 种植牙冠修复置入费(单颗) | I8: 服务产出:实现种植体上部固定义齿的修复置入。 价格构成:涵盖方案设计、印模制取、颌位确定、位置转移、模型制作、试排牙、戴入、调改、宣教等人力资源和基本物资消耗。 | J8: 牙冠、种植体系统 | L8: 013105170010000 | M8: 牙位 | N8: 906 | O8: 906 | P8: 755 | Q8: 755 | R8: 755 | S8: 01即刻修复置入加收30%; 02临时冠修复置入减收30% | T8: 丙类 | W8: 013105170010000
A9: 01310517010001 | B9: 种植牙冠修复置入费(单颗)-即刻修复置入(加收) | C9: 310523008-1 | D9: 种植牙冠修复置入费(单颗)-即刻修复置入(加收) | L9: 013105170010001 | M9: 牙位 | N9: 0.3 | O9: 0.3 | P9: 0.3 | Q9: 0.3 | R9: 0.3 | T9: 丙类 | W9: 013105170010001
A10: 01310517010002 | B10: 种植牙冠修复置入费(单颗)-临时冠修复置入(减收) | C10: 310523008-2 | D10: 种植牙冠修复置入费(单颗)-临时冠修复置入(减收) | L10: 013105170010002 | M10: 牙位 | N10: 0.3 | O10: 0.3 | P10: 0.3 | Q10: 0.3 | R10: 0.3 | T10: 丙类 | W10: 013105170010002
A11: 013105170030000 | B11: 种植牙冠修复置入费(固定咬合重建) | C11: 310523010 | D11: 种植牙冠修复置入费(固定咬合重建) | I11: 服务产出：实现对咬合支持丧失、半口牙齿缺失或全口牙齿缺失的种植体上部固定义齿的修复置入。价格构成：涵盖方案设计、印模制取、颌位确定、位置转移、模型制作、试排牙、戴入、调改、宣教等人力资源和基本物资消耗。 | J11: 牙冠、种植体系统 | L11: 013105170030000 | M11: 件 | S11: “件”为半口；01即刻修复置入加收X% （市场调节价） | T11: 丙类 | W11: 013105170030000
A12: 013105170030001 | B12: 种植牙冠修复置入费(固定咬合重建)-即刻修复置入(加收) | C12: 310523010-1 | D12: 种植牙冠修复置入费(固定咬合重建)即刻修复置入(加收) | L12: 013105170030001 | M12: 件 | S12: （市场调节价） | T12: 丙类 | W12: 013105170030001
A13: 013105230010000 | B13: 种植可摘修复置入费 | C13: 310523011 | D13: 种植可摘修复置入费 | I13: 服务产出：实现种植体上部可摘修复体的置入。价格构成：涵盖方案设计、印模制取、颌位确定、位置转移、试排牙、模型制作、戴入、调改、宣教等人力资源和基本物资消耗。 | J13: 牙冠、种植体系统 | L13: 013105230010000 | M13: 件 | S13: “件”为半口；01即刻修复置入加收X% （市场调节价） | T13: 丙类 | W13: 013105230010000
A14: 013105230010001 | B14: 种植可摘修复置入费-即刻修复置入(加收) | C14: 310523011-1 | D14: 种植可摘修复置入费-即刻修复置入(加收) | L14: 013105230010001 | M14: 件 | S14: （市场调节价） | T14: 丙类 | W14: 013105230010001
A15: 01330609010000 | B15: 种植体植入费(单颗) | C15: 330609014 | D15: 种植体植入费(单颗) | I15: 服务产出:实现口腔单颗种植体植入。 价格构成:涵盖方案设计、术前准备,备洞,种植体植入,二期手术,术后处理,手术复查等步骤人力资源和基本物资消耗。 | J15: 种植体系统 | L15: 013306090010000 | M15: 牙位 | N15: 1208 | O15: 1208 | P15: 1007 | Q15: 1007 | R15: 1007 | S15: 01种植体即刻种植加收30%; 02颅颌面种植体植入加收100% | T15: 丙类 | W15: 013306090010000
A16: 01330609010001 | B16: 种植体植入费(单颗)-种植体即刻种植(加收) | C16: 330609014-1 | D16: 种植体植入费(单颗)-种植体即刻种植(加收) | L16: 013306090010001 | M16: 牙位 | N16: 0.3 | O16: 0.3 | P16: 0.3 | Q16: 0.3 | R16: 0.3 | T16: 丙类 | W16: 013306090010001
A17: 01330609010002 | B17: 种植体植入费(单颗)-颅颌面种植体植入(加收) | C17: 330609014-2 | D17: 种植体植入费(单颗)-颅颌面种植体植入(加收) | L17: 013306090010002 | M17: 牙位 | N17: 1 | O17: 1 | P17: 1 | Q17: 1 | R17: 1 | T17: 丙类 | W17: 013306090010002
A18: 013306090020000 | B18: 种植体植入费(全牙弓) | C18: 330609015 | D18: 种植体植入费(全牙弓) | I18: 服务产出：对范围超过一个象限以上的连续牙齿缺失进行种植体的植入以实现桥式修复。价格构成：涵盖方案设计、术前准备，备洞，种植体植入，二期手术，术后处理，手术复查等步骤人力资源和基本物资消耗。 | J18: 种植体系统 | L18: 013306090020000 | M18: 例 | S18: 01种植体即刻种植加收X%; 02颅颌面种植体植入每一牙位加收X%; 03种植体倾斜植入每一牙位加收X% （市场调节价） | T18: 丙类 | W18: 013306090020000
A19: 013306090020001 | B19: 种植体植入费(全牙弓)-种植体即刻种植(加收) | C19: 330609015-1 | D19: 种植体植入费(全牙弓)-种植体即刻种植(加收) | L19: 013306090020001 | M19: 例 | S19: （市场调节价） | T19: 丙类 | W19: 013306090020001
A20: 013306090020002 | B20: 种植体植入费(全牙弓)-颅颌面种植体植入(加收) | C20: 330609015-2 | D20: 种植体植入费(全牙弓)-颅颌面种植体植入(加收) | L20: 013306090020002 | M20: 牙位 | S20: （市场调节价） | T20: 丙类 | W20: 013306090020002
A21: 013306090020003 | B21: 种植体植入费(全牙弓)-种植体倾斜植入(加收) | C21: 330609015-3 | D21: 种植体植入费(全牙弓)-种植体倾斜植入(加收) | L21: 013306090020003 | M21: 牙位 | S21: （市场调节价） | T21: 丙类 | W21: 013306090020003
A22: 01330609030000 | B22: 口腔内植骨费(简单) | C22: 330609016 | D22: 口腔内植骨费(简单) | I22: 服务产出:通过手术方式,对轻度牙槽嵴萎缩骨量增加,达到可种植条件。价格构成:涵盖方案设计、术前准备、手术入路,组织切开,植骨,关闭缝合受植区等手术步骤及术后复查处置等人力资源和基本物资消耗。 | J22: 骨代用品和引导组织再生膜 | L22: 013306090030000 | M22: 牙位 | N22: 1002 | O22: 918 | P22: 835 | Q22: 752 | R22: 668 | S22: 与种植体同时植入,上颌窦底剩余牙槽嵴高度≥5mm | T22: 丙类 | W22: 013306090030000
A23: 01330609040000 | B23: 口腔内植骨费(一般) | C23: 330609017 | D23: 口腔内植骨费(一般) | I23: 服务产出:通过手术方式,对中度牙槽嵴萎缩骨量增加,达到可种植条件。 价格构成:涵盖方案设计、术前准备、手术入路,组织切开,骨劈开/骨挤压,植骨,关闭缝合受植区等手术步骤及术后复查处置等人力资源和基本物资消耗。 | J23: 螺钉、骨代用品和引导组织再生膜 | L23: 013306090040000 | M23: 牙位 | N23: 1684 | O23: 1543 | P23: 1403 | Q23: 1262 | R23: 1123 | S23: 不与种植体同时植入,局限于水平骨缺损,上颌窦底剩余牙槽嵴高度<5mm | T23: 丙类 | W23: 013306090040000
A24: 01330609050000 | B24: 口腔内植骨费(复杂) | C24: 330609018 | D24: 口腔内植骨费(复杂) | I24: 服务产出:通过手术方式,对重度牙槽嵴萎缩或上颌窦底骨量增加,达到可种植条件。 价格构成:涵盖方案设计、术前准备、手术入路,组织切开,自体骨移植、植骨，关闭缝合受植区等手术步骤及术后复查处置等人力资源和基本物资消耗。 | J24: 螺钉、钛网、骨代用品和引导组织再生膜 | L24: 013306090050000 | M24: 牙位 | N24: 2469 | O24: 2264 | P24: 2058 | Q24: 1852 | R24: 1647 | S24: 不与种植体同时植入，需做垂直骨增量；上颌窦底剩余牙槽嵴高度<5mm，同时伴有囊肿、纵膈或异物。 01上颌窦囊肿摘除加收25%; 02口腔以外其他部位取骨加收40% | T24: 丙类 | W24: 013306090050000
A25: 01330609050001 | B25: 口腔内植骨费(复杂)-上颌窦囊肿摘除(加收) | C25: 330609018-1 | D25: 口腔内植骨费(复杂)-上颌窦囊肿摘除(加收) | L25: 013306090050001 | M25: 牙位 | N25: 0.25 | O25: 0.25 | P25: 0.25 | Q25: 0.25 | R25: 0.25 | T25: 丙类 | W25: 013306090050001
A26: 01330609050002 | B26: 口腔内植骨费(复杂)-口腔以外其他部位取骨(加收) | C26: 330609018-2 | D26: 口腔内植骨费(复杂)-口腔以外其他部位取骨(加收) | L26: 013306090050002 | M26: 牙位 | N26: 0.4 | O26: 0.4 | P26: 0.4 | Q26: 0.4 | R26: 0.4 | T26: 丙类 | W26: 013306090050002
A27: 01330609060000 | B27: 种植体周软组 | C27: 330609019 | D27: 种植体周软组织移植费 | I27: 服务产出:通过局部软组织移植,改善治疗部位及周围软组织状况,达到治疗所需软组织条件。 价格构成:涵盖方案设计、术前准备、切开、翻瓣、供软组织制备、组织固定、缝合及处置等手术步骤人力资源和基本物资消耗。 | J27: 引导组织再生膜 | L27: 013306090060000 | M27: 牙位 | N27: 1493 | O27: 1368 | P27: 1244 | Q27: 1120 | R27: 995 | T27: 丙类 | W27: 013306090060000
A28: 01330609070000 | B28: 种植体取出费 | C28: 330609020 | D28: 种植体取出费 | I28: 服务产出:拆除患者口腔内已植入且无法继续使用的种植体。 价格构成:涵盖种植体拆除操作步骤的人力资源和基本物资消耗。 | L28: 013306090070000 | M28: 牙位 | N28: 1026 | O28: 941 | P28: 855 | Q28: 770 | R28: 684 | T28: 丙类 | W28: 013306090070000
